BEGIN:VCALENDAR
VERSION:2.0
PRODID:-//Ryhope Engines Museum - ECPv6.15.20//NONSGML v1.0//EN
CALSCALE:GREGORIAN
METHOD:PUBLISH
X-WR-CALNAME:Ryhope Engines Museum
X-ORIGINAL-URL:https://ryhopeengines.org.uk
X-WR-CALDESC:Events for Ryhope Engines Museum
REFRESH-INTERVAL;VALUE=DURATION:PT1H
X-Robots-Tag:noindex
X-PUBLISHED-TTL:PT1H
BEGIN:VTIMEZONE
TZID:Europe/London
BEGIN:DAYLIGHT
TZOFFSETFROM:+0000
TZOFFSETTO:+0100
TZNAME:BST
DTSTART:20220327T010000
END:DAYLIGHT
BEGIN:STANDARD
TZOFFSETFROM:+0100
TZOFFSETTO:+0000
TZNAME:GMT
DTSTART:20221030T010000
END:STANDARD
BEGIN:DAYLIGHT
TZOFFSETFROM:+0000
TZOFFSETTO:+0100
TZNAME:BST
DTSTART:20230326T010000
END:DAYLIGHT
BEGIN:STANDARD
TZOFFSETFROM:+0100
TZOFFSETTO:+0000
TZNAME:GMT
DTSTART:20231029T010000
END:STANDARD
BEGIN:DAYLIGHT
TZOFFSETFROM:+0000
TZOFFSETTO:+0100
TZNAME:BST
DTSTART:20240331T010000
END:DAYLIGHT
BEGIN:STANDARD
TZOFFSETFROM:+0100
TZOFFSETTO:+0000
TZNAME:GMT
DTSTART:20241027T010000
END:STANDARD
END:VTIMEZONE
BEGIN:VEVENT
DTSTART;TZID=Europe/London:20230407T110000
DTEND;TZID=Europe/London:20230410T160000
DTSTAMP:20260422T121256
CREATED:20240709T081954Z
LAST-MODIFIED:20240709T081954Z
UID:50-1680865200-1681142400@ryhopeengines.org.uk
SUMMARY:Easter Steam Days
DESCRIPTION:7th-10th April. \nCome and see the Clasic Cars on Sunday 9th. \nPlease checkout http://www.sunderlandclassicvehicles.org/ for more information about the Classic Cars event.
URL:https://ryhopeengines.org.uk/event/easter-steam-days
END:VEVENT
END:VCALENDAR